BEGIN:VCALENDAR
VERSION:2.0
PRODID:-//Contratero//ES
CALSCALE:GREGORIAN
METHOD:PUBLISH
BEGIN:VEVENT
UID:AYT/9166/2022@contratero.es
DTSTAMP:20260422T161904Z
DTSTART:20230103T235959
DTEND:20230104T005959
SUMMARY:Cierre: Servicio de mantenimiento de la aplicación informá
DESCRIPTION:Servicio de mantenimiento de la aplicación informática EKON VISION\\n\\nOrganismo: Alcaldía del Ayuntamiento de Avilés\\n\\nVer en Contratero: https://contratero.es/contracts/AYT/9166/2022
URL:https://contratero.es/contracts/AYT/9166/2022
STATUS:CONFIRMED
BEGIN:VALARM
TRIGGER:-P1D
ACTION:DISPLAY
DESCRIPTION:Recordatorio: Servicio de mantenimiento de l
END:VALARM
END:VEVENT
END:VCALENDAR