BEGIN:VCALENDAR
VERSION:2.0
PRODID:-//Contratero//ES
CALSCALE:GREGORIAN
METHOD:PUBLISH
BEGIN:VEVENT
UID:Aa-31/24@contratero.es
DTSTAMP:20260420T103128Z
DTSTART:20240429T235959
DTEND:20240430T005959
SUMMARY:Cierre: Servicio de mantenimiento del sistema IVSIGN que e
DESCRIPTION:Servicio de mantenimiento del sistema IVSIGN que está compuesto por los módulos de motor de firma electrónica\, en adelante “Motor de firma” y Repositorio de Certificados Electrónicos\, en adelante “CKC\\n\\nOrganismo: Rectorado de la Universidad Autónoma de Madrid\\n\\nVer en Contratero: https://contratero.es/contracts/Aa-31/24
URL:https://contratero.es/contracts/Aa-31/24
STATUS:CONFIRMED
BEGIN:VALARM
TRIGGER:-P1D
ACTION:DISPLAY
DESCRIPTION:Recordatorio: Servicio de mantenimiento del 
END:VALARM
END:VEVENT
END:VCALENDAR