BEGIN:VCALENDAR
VERSION:2.0
PRODID:-//Contratero//ES
CALSCALE:GREGORIAN
METHOD:PUBLISH
BEGIN:VEVENT
UID:B070005/2019-0014@contratero.es
DTSTAMP:20260422T170533Z
DTSTART:20190613T235959
DTEND:20190614T005959
SUMMARY:Cierre: Servicio de conectividad a internet de la red de t
DESCRIPTION:Servicio de conectividad a internet de la red de telecentros de la Diputación Provincial de Huesca\\n\\nOrganismo: Presidencia de la Diputación Provincial de Huesca\\n\\nVer en Contratero: https://contratero.es/contracts/B070005/2019-0014
URL:https://contratero.es/contracts/B070005/2019-0014
STATUS:CONFIRMED
BEGIN:VALARM
TRIGGER:-P1D
ACTION:DISPLAY
DESCRIPTION:Recordatorio: Servicio de conectividad a int
END:VALARM
END:VEVENT
END:VCALENDAR