BEGIN:VCALENDAR
VERSION:2.0
PRODID:-//Contratero//ES
CALSCALE:GREGORIAN
METHOD:PUBLISH
BEGIN:VEVENT
UID:B070005/2022-0070@contratero.es
DTSTAMP:20260424T092544Z
DTSTART:20220725T235959
DTEND:20220726T005959
SUMMARY:Cierre: Servicio de uso\, mantenimiento\, alojamiento de dat
DESCRIPTION:Servicio de uso\, mantenimiento\, alojamiento de datos y formación de la plataforma de administración electrónica GESTIONA\, en municipios de la provincia de Huesca con población inferior a 20.000 habita...\\n\\nOrganismo: Presidencia de la Diputación Provincial de Huesca\\n\\nVer en Contratero: https://contratero.es/contracts/B070005/2022-0070
URL:https://contratero.es/contracts/B070005/2022-0070
STATUS:CONFIRMED
BEGIN:VALARM
TRIGGER:-P1D
ACTION:DISPLAY
DESCRIPTION:Recordatorio: Servicio de uso\, mantenimiento
END:VALARM
END:VEVENT
END:VCALENDAR