BEGIN:VCALENDAR
VERSION:2.0
PRODID:-//Contratero//ES
CALSCALE:GREGORIAN
METHOD:PUBLISH
BEGIN:VEVENT
UID:B070005/2023-0094@contratero.es
DTSTAMP:20260423T032858Z
DTSTART:20240130T235959
DTEND:20240131T005959
SUMMARY:Cierre: Servicio de soporte y mantenimiento de la aplicaci
DESCRIPTION:Servicio de soporte y mantenimiento de la aplicación de gestión integral tributaria en cloud “eSTIMA”\\n\\nOrganismo: Presidencia de la Diputación Provincial de Huesca\\n\\nVer en Contratero: https://contratero.es/contracts/B070005/2023-0094
URL:https://contratero.es/contracts/B070005/2023-0094
STATUS:CONFIRMED
BEGIN:VALARM
TRIGGER:-P1D
ACTION:DISPLAY
DESCRIPTION:Recordatorio: Servicio de soporte y mantenim
END:VALARM
END:VEVENT
END:VCALENDAR