BEGIN:VCALENDAR
VERSION:2.0
PRODID:-//Contratero//ES
CALSCALE:GREGORIAN
METHOD:PUBLISH
BEGIN:VEVENT
UID:B070005/2025-0001@contratero.es
DTSTAMP:20260420T165201Z
DTSTART:20250131T235959
DTEND:20250201T005959
SUMMARY:Cierre: Servicio de mantenimiento y asistencia técnica de 
DESCRIPTION:Servicio de mantenimiento y asistencia técnica de la aplicación informática de “Inventario y Patrimonio” de la DPH\\n\\nOrganismo: Presidencia de la Diputación Provincial de Huesca\\n\\nVer en Contratero: https://contratero.es/contracts/B070005/2025-0001
URL:https://contratero.es/contracts/B070005/2025-0001
STATUS:CONFIRMED
BEGIN:VALARM
TRIGGER:-P1D
ACTION:DISPLAY
DESCRIPTION:Recordatorio: Servicio de mantenimiento y as
END:VALARM
END:VEVENT
END:VCALENDAR