BEGIN:VCALENDAR
VERSION:2.0
PRODID:-//Contratero//ES
CALSCALE:GREGORIAN
METHOD:PUBLISH
BEGIN:VEVENT
UID:BAM-02/25@contratero.es
DTSTAMP:20260425T034035Z
DTSTART:20260112T235959
DTEND:20260113T005959
SUMMARY:Cierre: Contratación basada en Acuerdo Marco del CSUC para
DESCRIPTION:Contratación basada en Acuerdo Marco del CSUC para la Homologación de Proveedores y Sistemas para la Prestación del Servicio de Virtualización del Puesto de Trabajo.\\n\\nOrganismo: Rectorado de la Universidad Politécnica de Cartagena\\n\\nVer en Contratero: https://contratero.es/contracts/BAM-02/25
URL:https://contratero.es/contracts/BAM-02/25
STATUS:CONFIRMED
BEGIN:VALARM
TRIGGER:-P1D
ACTION:DISPLAY
DESCRIPTION:Recordatorio: Contratación basada en Acuerdo
END:VALARM
END:VEVENT
END:VCALENDAR