BEGIN:VCALENDAR
VERSION:2.0
PRODID:-//Contratero//ES
CALSCALE:GREGORIAN
METHOD:PUBLISH
BEGIN:VEVENT
UID:BCN-204/2025@contratero.es
DTSTAMP:20260421T105249Z
DTSTART:20250910T235959
DTEND:20250911T005959
SUMMARY:Cierre: Sensores Meteorológicos Para Cabinas De Aire G1-G3
DESCRIPTION:Sensores Meteorológicos Para Cabinas De Aire G1-G3-G4-G5\\n\\nOrganismo: Aena. Dirección del Aeropuerto de Josep Tarradellas Barcelona-El Prat\\n\\nVer en Contratero: https://contratero.es/contracts/BCN-204/2025
URL:https://contratero.es/contracts/BCN-204/2025
STATUS:CONFIRMED
BEGIN:VALARM
TRIGGER:-P1D
ACTION:DISPLAY
DESCRIPTION:Recordatorio: Sensores Meteorológicos Para C
END:VALARM
END:VEVENT
END:VCALENDAR