BEGIN:VCALENDAR
VERSION:2.0
PRODID:-//Contratero//ES
CALSCALE:GREGORIAN
METHOD:PUBLISH
BEGIN:VEVENT
UID:BSE/2022/133@contratero.es
DTSTAMP:20260423T212312Z
DTSTART:20221108T235959
DTEND:20221109T005959
SUMMARY:Cierre: Soporte a la Oficina Técnica de Gobernanza del Áre
DESCRIPTION:Soporte a la Oficina Técnica de Gobernanza del Área de Gobierno\\n\\nOrganismo: Junta de Contratación del Ministerio de Justicia\\n\\nVer en Contratero: https://contratero.es/contracts/BSE/2022/133
URL:https://contratero.es/contracts/BSE/2022/133
STATUS:CONFIRMED
BEGIN:VALARM
TRIGGER:-P1D
ACTION:DISPLAY
DESCRIPTION:Recordatorio: Soporte a la Oficina Técnica d
END:VALARM
END:VEVENT
END:VCALENDAR