BEGIN:VCALENDAR
VERSION:2.0
PRODID:-//Contratero//ES
CALSCALE:GREGORIAN
METHOD:PUBLISH
BEGIN:VEVENT
UID:BSE/2022/172@contratero.es
DTSTAMP:20260424T061512Z
DTSTART:20221223T235959
DTEND:20221224T005959
SUMMARY:Cierre: Centro de excelencia y diseño de sistemas en plata
DESCRIPTION:Centro de excelencia y diseño de sistemas en plataforma LowCode\\n\\nOrganismo: Junta de Contratación del Ministerio de Justicia\\n\\nVer en Contratero: https://contratero.es/contracts/BSE/2022/172
URL:https://contratero.es/contracts/BSE/2022/172
STATUS:CONFIRMED
BEGIN:VALARM
TRIGGER:-P1D
ACTION:DISPLAY
DESCRIPTION:Recordatorio: Centro de excelencia y diseño 
END:VALARM
END:VEVENT
END:VCALENDAR