BEGIN:VCALENDAR
VERSION:2.0
PRODID:-//Contratero//ES
CALSCALE:GREGORIAN
METHOD:PUBLISH
BEGIN:VEVENT
UID:BSE/2022/191@contratero.es
DTSTAMP:20260422T044804Z
DTSTART:20230109T235959
DTEND:20230110T005959
SUMMARY:Cierre: Desarrollo y mantenimiento del nuevo sistema de in
DESCRIPTION:Desarrollo y mantenimiento del nuevo sistema de información para la gestión de expedientes de nacionalidad (SINAC)\\n\\nOrganismo: Junta de Contratación del Ministerio de Justicia\\n\\nVer en Contratero: https://contratero.es/contracts/BSE/2022/191
URL:https://contratero.es/contracts/BSE/2022/191
STATUS:CONFIRMED
BEGIN:VALARM
TRIGGER:-P1D
ACTION:DISPLAY
DESCRIPTION:Recordatorio: Desarrollo y mantenimiento del
END:VALARM
END:VEVENT
END:VCALENDAR