BEGIN:VCALENDAR
VERSION:2.0
PRODID:-//Contratero//ES
CALSCALE:GREGORIAN
METHOD:PUBLISH
BEGIN:VEVENT
UID:BSE/2025/151@contratero.es
DTSTAMP:20260419T195336Z
DTSTART:20251210T235959
DTEND:20251211T005959
SUMMARY:Cierre: Servicio para la gobernanza\, aseguramiento y contr
DESCRIPTION:Servicio para la gobernanza\, aseguramiento y control de Calidad en el desarrollo software\\n\\nOrganismo: Junta de Contratación de la Secretaría de Estado de Justicia\\n\\nVer en Contratero: https://contratero.es/contracts/BSE/2025/151
URL:https://contratero.es/contracts/BSE/2025/151
STATUS:CONFIRMED
BEGIN:VALARM
TRIGGER:-P1D
ACTION:DISPLAY
DESCRIPTION:Recordatorio: Servicio para la gobernanza\, a
END:VALARM
END:VEVENT
END:VCALENDAR