BEGIN:VCALENDAR
VERSION:2.0
PRODID:-//Contratero//ES
CALSCALE:GREGORIAN
METHOD:PUBLISH
BEGIN:VEVENT
UID:C-4172-22/D-2201@contratero.es
DTSTAMP:20260421T223556Z
DTSTART:20220607T235959
DTEND:20220608T005959
SUMMARY:Cierre: Adquisición Y mantenimiento licencias Microsoft. D
DESCRIPTION:Adquisición Y mantenimiento licencias Microsoft. Departamento de Informática Corporativa\\n\\nOrganismo: Hulleras del Norte S.A.\\n\\nVer en Contratero: https://contratero.es/contracts/C-4172-22/D-2201
URL:https://contratero.es/contracts/C-4172-22/D-2201
STATUS:CONFIRMED
BEGIN:VALARM
TRIGGER:-P1D
ACTION:DISPLAY
DESCRIPTION:Recordatorio: Adquisición Y mantenimiento li
END:VALARM
END:VEVENT
END:VCALENDAR