BEGIN:VCALENDAR
VERSION:2.0
PRODID:-//Contratero//ES
CALSCALE:GREGORIAN
METHOD:PUBLISH
BEGIN:VEVENT
UID:C.1270@contratero.es
DTSTAMP:20260421T094024Z
DTSTART:20230807T235959
DTEND:20230808T005959
SUMMARY:Cierre: Servicio de actualización y soporte cumplimiento r
DESCRIPTION:Servicio de actualización y soporte cumplimiento reglamento (UE) protección de datos e implantación del esquema nacional de seguridad y asunción del rol delegado de protección de datos para el Ayuntam...\\n\\nOrganismo: Junta de Gobierno del Ayuntamiento de Alcoy\\n\\nVer en Contratero: https://contratero.es/contracts/C.1270
URL:https://contratero.es/contracts/C.1270
STATUS:CONFIRMED
BEGIN:VALARM
TRIGGER:-P1D
ACTION:DISPLAY
DESCRIPTION:Recordatorio: Servicio de actualización y so
END:VALARM
END:VEVENT
END:VCALENDAR