BEGIN:VCALENDAR
VERSION:2.0
PRODID:-//Contratero//ES
CALSCALE:GREGORIAN
METHOD:PUBLISH
BEGIN:VEVENT
UID:C.SE.10/25@contratero.es
DTSTAMP:20260425T182022Z
DTSTART:20251126T235959
DTEND:20251127T005959
SUMMARY:Cierre: Contrato de “Servicios de Soporte\, Mantenimiento y
DESCRIPTION:Contrato de “Servicios de Soporte\, Mantenimiento y Asistencia Avanzada de SPAI SICAL” (C.SE.5/24)\\n\\nOrganismo: Junta de Gobierno del Ayuntamiento de Yecla\\n\\nVer en Contratero: https://contratero.es/contracts/C.SE.10/25
URL:https://contratero.es/contracts/C.SE.10/25
STATUS:CONFIRMED
BEGIN:VALARM
TRIGGER:-P1D
ACTION:DISPLAY
DESCRIPTION:Recordatorio: Contrato de “Servicios de Sopo
END:VALARM
END:VEVENT
END:VCALENDAR