BEGIN:VCALENDAR
VERSION:2.0
PRODID:-//Contratero//ES
CALSCALE:GREGORIAN
METHOD:PUBLISH
BEGIN:VEVENT
UID:C/057/CON/2023-122@contratero.es
DTSTAMP:20260421T025828Z
DTSTART:20240122T235959
DTEND:20240123T005959
SUMMARY:Cierre: Mantenimiento de la base de datos Oracle del Ayunt
DESCRIPTION:Mantenimiento de la base de datos Oracle del Ayuntamiento de Móstoles.\\n\\nOrganismo: Junta de Gobierno del Ayuntamiento de Móstoles\\n\\nVer en Contratero: https://contratero.es/contracts/C/057/CON/2023-122
URL:https://contratero.es/contracts/C/057/CON/2023-122
STATUS:CONFIRMED
BEGIN:VALARM
TRIGGER:-P1D
ACTION:DISPLAY
DESCRIPTION:Recordatorio: Mantenimiento de la base de da
END:VALARM
END:VEVENT
END:VCALENDAR