BEGIN:VCALENDAR
VERSION:2.0
PRODID:-//Contratero//ES
CALSCALE:GREGORIAN
METHOD:PUBLISH
BEGIN:VEVENT
UID:C/19/023@contratero.es
DTSTAMP:20260422T021441Z
DTSTART:20191230T235959
DTEND:20191231T005959
SUMMARY:Cierre: Servicio de conectividad de red de los centros de 
DESCRIPTION:Servicio de conectividad de red de los centros de trabajo del Consorcio Provincial de Bomberos de Valencia\\n\\nOrganismo: Presidencia del Consorcio para el Servicio de Prevención y Extinción de Incendios y de Salvamento de la Provincia de Valencia\\n\\nVer en Contratero: https://contratero.es/contracts/C/19/023
URL:https://contratero.es/contracts/C/19/023
STATUS:CONFIRMED
BEGIN:VALARM
TRIGGER:-P1D
ACTION:DISPLAY
DESCRIPTION:Recordatorio: Servicio de conectividad de re
END:VALARM
END:VEVENT
END:VCALENDAR