BEGIN:VCALENDAR
VERSION:2.0
PRODID:-//Contratero//ES
CALSCALE:GREGORIAN
METHOD:PUBLISH
BEGIN:VEVENT
UID:C034/01/2022@contratero.es
DTSTAMP:20260422T085633Z
DTSTART:20220418T235959
DTEND:20220419T005959
SUMMARY:Cierre: Arrendamiento del uso y actualizaciones de Licenci
DESCRIPTION:Arrendamiento del uso y actualizaciones de Licencias de Panda Antivirus\\n\\nOrganismo: Gerencia Municipal de Urbanismos del Ayuntamiento de Móstoles\\n\\nVer en Contratero: https://contratero.es/contracts/C034/01/2022
URL:https://contratero.es/contracts/C034/01/2022
STATUS:CONFIRMED
BEGIN:VALARM
TRIGGER:-P1D
ACTION:DISPLAY
DESCRIPTION:Recordatorio: Arrendamiento del uso y actual
END:VALARM
END:VEVENT
END:VCALENDAR