BEGIN:VCALENDAR
VERSION:2.0
PRODID:-//Contratero//ES
CALSCALE:GREGORIAN
METHOD:PUBLISH
BEGIN:VEVENT
UID:C105/18@contratero.es
DTSTAMP:20260423T080833Z
DTSTART:20180914T235959
DTEND:20180915T005959
SUMMARY:Cierre: Servicios de mantenimiento de las aplicaciones inf
DESCRIPTION:Servicios de mantenimiento de las aplicaciones informáticas de la Oficina Española de Patentes y Marcas\, O.A.\, (cuatro lotes)\\n\\nOrganismo: Oficina Española de Patentes y Marcas\, O.A.\\n\\nVer en Contratero: https://contratero.es/contracts/C105/18
URL:https://contratero.es/contracts/C105/18
STATUS:CONFIRMED
BEGIN:VALARM
TRIGGER:-P1D
ACTION:DISPLAY
DESCRIPTION:Recordatorio: Servicios de mantenimiento de 
END:VALARM
END:VEVENT
END:VCALENDAR