BEGIN:VCALENDAR
VERSION:2.0
PRODID:-//Contratero//ES
CALSCALE:GREGORIAN
METHOD:PUBLISH
BEGIN:VEVENT
UID:C74/24G4098/24@contratero.es
DTSTAMP:20260421T130308Z
DTSTART:20240607T235959
DTEND:20240608T005959
SUMMARY:Cierre: Mantenimiento de dos de las aplicaciones de gestió
DESCRIPTION:Mantenimiento de dos de las aplicaciones de gestión municipal\\n\\nOrganismo: Junta de Gobierno del Ayuntamiento de Borriana\\n\\nVer en Contratero: https://contratero.es/contracts/C74/24G4098/24
URL:https://contratero.es/contracts/C74/24G4098/24
STATUS:CONFIRMED
BEGIN:VALARM
TRIGGER:-P1D
ACTION:DISPLAY
DESCRIPTION:Recordatorio: Mantenimiento de dos de las ap
END:VALARM
END:VEVENT
END:VCALENDAR