BEGIN:VCALENDAR
VERSION:2.0
PRODID:-//Contratero//ES
CALSCALE:GREGORIAN
METHOD:PUBLISH
BEGIN:VEVENT
UID:C86/19G3644/19@contratero.es
DTSTAMP:20260421T192149Z
DTSTART:20190603T235959
DTEND:20190604T005959
SUMMARY:Cierre: Servicio de realización en directo y streaming de 
DESCRIPTION:Servicio de realización en directo y streaming de las sesiones plenarias y del Consejo Social del Ayuntamiento de Borriana\\n\\nOrganismo: Junta de Gobierno del Ayuntamiento de Borriana\\n\\nVer en Contratero: https://contratero.es/contracts/C86/19G3644/19
URL:https://contratero.es/contracts/C86/19G3644/19
STATUS:CONFIRMED
BEGIN:VALARM
TRIGGER:-P1D
ACTION:DISPLAY
DESCRIPTION:Recordatorio: Servicio de realización en dir
END:VALARM
END:VEVENT
END:VCALENDAR