BEGIN:VCALENDAR
VERSION:2.0
PRODID:-//Contratero//ES
CALSCALE:GREGORIAN
METHOD:PUBLISH
BEGIN:VEVENT
UID:CA-0412-2024-00-A@contratero.es
DTSTAMP:20260422T044953Z
DTSTART:20250115T235959
DTEND:20250116T005959
SUMMARY:Cierre: Servicios especializados dirigidos a la gestion\, o
DESCRIPTION:Servicios especializados dirigidos a la gestion\, operacion y dinamizacion del sistema de aceleracion de proyectos empresariales que se seleccionen para su alojamiento en ZF BLUE CORE del CZFC de maner...\\n\\nOrganismo: Comité Ejecutivo del Consorcio de la Zona Franca de Cádiz\\n\\nVer en Contratero: https://contratero.es/contracts/CA-0412-2024-00-A
URL:https://contratero.es/contracts/CA-0412-2024-00-A
STATUS:CONFIRMED
BEGIN:VALARM
TRIGGER:-P1D
ACTION:DISPLAY
DESCRIPTION:Recordatorio: Servicios especializados dirig
END:VALARM
END:VEVENT
END:VCALENDAR