BEGIN:VCALENDAR
VERSION:2.0
PRODID:-//Contratero//ES
CALSCALE:GREGORIAN
METHOD:PUBLISH
BEGIN:VEVENT
UID:CAA/2024/353@contratero.es
DTSTAMP:20260420T064935Z
DTSTART:20250429T235959
DTEND:20250430T005959
SUMMARY:Cierre: Servicio de alojamiento\, desarrollo y mantenimient
DESCRIPTION:Servicio de alojamiento\, desarrollo y mantenimiento de las webs del Consorcio de Aguas de Asturias.\\n\\nOrganismo: Consorcio para el Abastecimiento de Agua y Saneamiento en el Principado de Asturias\\n\\nVer en Contratero: https://contratero.es/contracts/CAA/2024/353
URL:https://contratero.es/contracts/CAA/2024/353
STATUS:CONFIRMED
BEGIN:VALARM
TRIGGER:-P1D
ACTION:DISPLAY
DESCRIPTION:Recordatorio: Servicio de alojamiento\, desar
END:VALARM
END:VEVENT
END:VCALENDAR