BEGIN:VCALENDAR
VERSION:2.0
PRODID:-//Contratero//ES
CALSCALE:GREGORIAN
METHOD:PUBLISH
BEGIN:VEVENT
UID:CANALINK-2023-09@contratero.es
DTSTAMP:20260419T135703Z
DTSTART:20231010T235959
DTEND:20231011T005959
SUMMARY:Cierre: Prestación del servicio de acceso a internet.
DESCRIPTION:Prestación del servicio de acceso a internet.\\n\\nOrganismo: Consejero Delegado de Canarias Submarine Link\, S.L.\\n\\nVer en Contratero: https://contratero.es/contracts/CANALINK-2023-09
URL:https://contratero.es/contracts/CANALINK-2023-09
STATUS:CONFIRMED
BEGIN:VALARM
TRIGGER:-P1D
ACTION:DISPLAY
DESCRIPTION:Recordatorio: Prestación del servicio de acc
END:VALARM
END:VEVENT
END:VCALENDAR