BEGIN:VCALENDAR
VERSION:2.0
PRODID:-//Contratero//ES
CALSCALE:GREGORIAN
METHOD:PUBLISH
BEGIN:VEVENT
UID:CANALINK-2024-01@contratero.es
DTSTAMP:20260421T141200Z
DTSTART:20240126T235959
DTEND:20240127T005959
SUMMARY:Cierre: Adquisición y renovación de suscripciones a las Ap
DESCRIPTION:Adquisición y renovación de suscripciones a las Aplicaciones Microsoft 365\\n\\nOrganismo: Consejero Delegado de Canarias Submarine Link\, S.L.\\n\\nVer en Contratero: https://contratero.es/contracts/CANALINK-2024-01
URL:https://contratero.es/contracts/CANALINK-2024-01
STATUS:CONFIRMED
BEGIN:VALARM
TRIGGER:-P1D
ACTION:DISPLAY
DESCRIPTION:Recordatorio: Adquisición y renovación de su
END:VALARM
END:VEVENT
END:VCALENDAR