BEGIN:VCALENDAR
VERSION:2.0
PRODID:-//Contratero//ES
CALSCALE:GREGORIAN
METHOD:PUBLISH
BEGIN:VEVENT
UID:CAP24@contratero.es
DTSTAMP:20260422T052237Z
DTSTART:20231215T235959
DTEND:20231216T005959
SUMMARY:Cierre: Contratación de servicios de capilaridad y tránsit
DESCRIPTION:Contratación de servicios de capilaridad y tránsito a internet para la red CTNET ultrarrápida.\\n\\nOrganismo: Fundación Integra\\n\\nVer en Contratero: https://contratero.es/contracts/CAP24
URL:https://contratero.es/contracts/CAP24
STATUS:CONFIRMED
BEGIN:VALARM
TRIGGER:-P1D
ACTION:DISPLAY
DESCRIPTION:Recordatorio: Contratación de servicios de c
END:VALARM
END:VEVENT
END:VCALENDAR