BEGIN:VCALENDAR
VERSION:2.0
PRODID:-//Contratero//ES
CALSCALE:GREGORIAN
METHOD:PUBLISH
BEGIN:VEVENT
UID:CAS-04/2020@contratero.es
DTSTAMP:20260424T190731Z
DTSTART:20201210T235959
DTEND:20201211T005959
SUMMARY:Cierre: Consultoría\, parametrización y personalización par
DESCRIPTION:Consultoría\, parametrización y personalización para la puesta en funcionamiento del repositorio institucional del sistema sanitario público de las Illes Balears.\\n\\nOrganismo: Fundación Instituto de Investigación Sanitaria Illes Balears\\n\\nVer en Contratero: https://contratero.es/contracts/CAS-04/2020
URL:https://contratero.es/contracts/CAS-04/2020
STATUS:CONFIRMED
BEGIN:VALARM
TRIGGER:-P1D
ACTION:DISPLAY
DESCRIPTION:Recordatorio: Consultoría\, parametrización y
END:VALARM
END:VEVENT
END:VCALENDAR