BEGIN:VCALENDAR
VERSION:2.0
PRODID:-//Contratero//ES
CALSCALE:GREGORIAN
METHOD:PUBLISH
BEGIN:VEVENT
UID:CB01.AM.202200000040@contratero.es
DTSTAMP:20260424T071708Z
DTSTART:20221014T235959
DTEND:20221015T005959
SUMMARY:Cierre: Servicio de desarrollo para la programación de var
DESCRIPTION:Servicio de desarrollo para la programación de varios módulos que interactúen con DIOCLES para la Agencia Estatal. Comisión Española para la Lucha Antidopaje en el Deporte (CELAD).\\n\\nOrganismo: Dirección de la Agencia Estatal Comisión Española para la Lucha Antidopaje en el Deporte (CELAD)\\n\\nVer en Contratero: https://contratero.es/contracts/CB01.AM.202200000040
URL:https://contratero.es/contracts/CB01.AM.202200000040
STATUS:CONFIRMED
BEGIN:VALARM
TRIGGER:-P1D
ACTION:DISPLAY
DESCRIPTION:Recordatorio: Servicio de desarrollo para la
END:VALARM
END:VEVENT
END:VCALENDAR