BEGIN:VCALENDAR
VERSION:2.0
PRODID:-//Contratero//ES
CALSCALE:GREGORIAN
METHOD:PUBLISH
BEGIN:VEVENT
UID:CC-02-2020@contratero.es
DTSTAMP:20260424T213016Z
DTSTART:20210204T235959
DTEND:20210205T005959
SUMMARY:Cierre: Servicio de estrategia\, mejora continua\, construcc
DESCRIPTION:Servicio de estrategia\, mejora continua\, construcción y operación del sistema de gestión económico financiero de la Junta de Extremadura (Proyecto Alcántara)\\n\\nOrganismo: Dirección General de Patrimonio y Contratación Centralizada\\n\\nVer en Contratero: https://contratero.es/contracts/CC-02-2020
URL:https://contratero.es/contracts/CC-02-2020
STATUS:CONFIRMED
BEGIN:VALARM
TRIGGER:-P1D
ACTION:DISPLAY
DESCRIPTION:Recordatorio: Servicio de estrategia\, mejora
END:VALARM
END:VEVENT
END:VCALENDAR