BEGIN:VCALENDAR
VERSION:2.0
PRODID:-//Contratero//ES
CALSCALE:GREGORIAN
METHOD:PUBLISH
BEGIN:VEVENT
UID:CC2020/199@contratero.es
DTSTAMP:20260424T153822Z
DTSTART:20210224T235959
DTEND:20210225T005959
SUMMARY:Cierre: Servicio desk del Ayuntamiento de Oviedo
DESCRIPTION:Servicio desk del Ayuntamiento de Oviedo\\n\\nOrganismo: Junta de Gobierno del Ayuntamiento de Oviedo\\n\\nVer en Contratero: https://contratero.es/contracts/CC2020/199
URL:https://contratero.es/contracts/CC2020/199
STATUS:CONFIRMED
BEGIN:VALARM
TRIGGER:-P1D
ACTION:DISPLAY
DESCRIPTION:Recordatorio: Servicio desk del Ayuntamiento
END:VALARM
END:VEVENT
END:VCALENDAR