BEGIN:VCALENDAR
VERSION:2.0
PRODID:-//Contratero//ES
CALSCALE:GREGORIAN
METHOD:PUBLISH
BEGIN:VEVENT
UID:CC2021/29@contratero.es
DTSTAMP:20260424T195403Z
DTSTART:20210430T235959
DTEND:20210501T005959
SUMMARY:Cierre: Servicio de soporte y mantenimiento del software d
DESCRIPTION:Servicio de soporte y mantenimiento del software de registro\, portal del ciudadano\, gestión patrimonial\, gestión económico-financiera\, subvenciones\, tramitador de expedientes\, notificaciones\, padrón m...\\n\\nOrganismo: Junta de Gobierno del Ayuntamiento de Oviedo\\n\\nVer en Contratero: https://contratero.es/contracts/CC2021/29
URL:https://contratero.es/contracts/CC2021/29
STATUS:CONFIRMED
BEGIN:VALARM
TRIGGER:-P1D
ACTION:DISPLAY
DESCRIPTION:Recordatorio: Servicio de soporte y mantenim
END:VALARM
END:VEVENT
END:VCALENDAR