BEGIN:VCALENDAR
VERSION:2.0
PRODID:-//Contratero//ES
CALSCALE:GREGORIAN
METHOD:PUBLISH
BEGIN:VEVENT
UID:CCTP_2025_189@contratero.es
DTSTAMP:20260420T011627Z
DTSTART:20250924T235959
DTEND:20250925T005959
SUMMARY:Cierre: Servicio de hosting de sitios web de CTP y provisi
DESCRIPTION:Servicio de hosting de sitios web de CTP y provisión del servicio de correo electrónico\\n\\nOrganismo: Dirección del Consorcio de la Comunidad de Trabajo de los Pirineos\\n\\nVer en Contratero: https://contratero.es/contracts/CCTP_2025_189
URL:https://contratero.es/contracts/CCTP_2025_189
STATUS:CONFIRMED
BEGIN:VALARM
TRIGGER:-P1D
ACTION:DISPLAY
DESCRIPTION:Recordatorio: Servicio de hosting de sitios 
END:VALARM
END:VEVENT
END:VCALENDAR