BEGIN:VCALENDAR
VERSION:2.0
PRODID:-//Contratero//ES
CALSCALE:GREGORIAN
METHOD:PUBLISH
BEGIN:VEVENT
UID:CCV/2022/00914@contratero.es
DTSTAMP:20260419T130427Z
DTSTART:20220525T235959
DTEND:20220526T005959
SUMMARY:Cierre: Servicio de asesoría y mantenimiento de documentac
DESCRIPTION:Servicio de asesoría y mantenimiento de documentación y procedimientos actualizados en materia de protección de datos para el Club de Campo Villa de Madrid\, S.A.\\n\\nOrganismo: Club de Campo Villa de Madrid\, S.A.\\n\\nVer en Contratero: https://contratero.es/contracts/CCV/2022/00914
URL:https://contratero.es/contracts/CCV/2022/00914
STATUS:CONFIRMED
BEGIN:VALARM
TRIGGER:-P1D
ACTION:DISPLAY
DESCRIPTION:Recordatorio: Servicio de asesoría y manteni
END:VALARM
END:VEVENT
END:VCALENDAR