BEGIN:VCALENDAR
VERSION:2.0
PRODID:-//Contratero//ES
CALSCALE:GREGORIAN
METHOD:PUBLISH
BEGIN:VEVENT
UID:CD/22@contratero.es
DTSTAMP:20260423T092924Z
DTSTART:20230118T235959
DTEND:20230119T005959
SUMMARY:Cierre: Contratación del Mantenimiento del software para l
DESCRIPTION:Contratación del Mantenimiento del software para la gestión de recogida de enseres\\n\\nOrganismo: Empresa Provincial de Informática\, S.A.\\n\\nVer en Contratero: https://contratero.es/contracts/CD/22
URL:https://contratero.es/contracts/CD/22
STATUS:CONFIRMED
BEGIN:VALARM
TRIGGER:-P1D
ACTION:DISPLAY
DESCRIPTION:Recordatorio: Contratación del Mantenimiento
END:VALARM
END:VEVENT
END:VCALENDAR