BEGIN:VCALENDAR
VERSION:2.0
PRODID:-//Contratero//ES
CALSCALE:GREGORIAN
METHOD:PUBLISH
BEGIN:VEVENT
UID:CESDA22/DGTIC/38@contratero.es
DTSTAMP:20260423T050844Z
DTSTART:20220909T235959
DTEND:20220910T005959
SUMMARY:Cierre: Suministro e instalación de 3.300 aulas digitales 
DESCRIPTION:Suministro e instalación de 3.300 aulas digitales interactivas para centros educativos de la Conselleria de Educación\, Cultura y Deporte de la Generalitat Valenciana (Fase 2 IES de la Generalitat Vale...\\n\\nOrganismo: Dirección General de Tecnologías de la Información y las Comunicaciones\\n\\nVer en Contratero: https://contratero.es/contracts/CESDA22/DGTIC/38
URL:https://contratero.es/contracts/CESDA22/DGTIC/38
STATUS:CONFIRMED
BEGIN:VALARM
TRIGGER:-P1D
ACTION:DISPLAY
DESCRIPTION:Recordatorio: Suministro e instalación de 3.
END:VALARM
END:VEVENT
END:VCALENDAR