BEGIN:VCALENDAR
VERSION:2.0
PRODID:-//Contratero//ES
CALSCALE:GREGORIAN
METHOD:PUBLISH
BEGIN:VEVENT
UID:CESDA23/DGTIC/48@contratero.es
DTSTAMP:20260423T131912Z
DTSTART:20230417T235959
DTEND:20230418T005959
SUMMARY:Cierre: Suministro de licencias de software base y de infr
DESCRIPTION:Suministro de licencias de software base y de infraestructura: renovación de suscripción del software liferay digital experience platform (dxp) y su servicio de soporte\\n\\nOrganismo: Dirección General de Tecnologías de la Información y las Comunicaciones\\n\\nVer en Contratero: https://contratero.es/contracts/CESDA23/DGTIC/48
URL:https://contratero.es/contracts/CESDA23/DGTIC/48
STATUS:CONFIRMED
BEGIN:VALARM
TRIGGER:-P1D
ACTION:DISPLAY
DESCRIPTION:Recordatorio: Suministro de licencias de sof
END:VALARM
END:VEVENT
END:VCALENDAR