BEGIN:VCALENDAR
VERSION:2.0
PRODID:-//Contratero//ES
CALSCALE:GREGORIAN
METHOD:PUBLISH
BEGIN:VEVENT
UID:CG-2020/2801/0005@contratero.es
DTSTAMP:20260425T193051Z
DTSTART:20191127T235959
DTEND:20191128T005959
SUMMARY:Cierre: Actualización del software de los analizadores I S
DESCRIPTION:Actualización del software de los analizadores I STAT Y CDS (AlinIQ Clinical Decision Support)\\n\\nOrganismo: Dirección General de IBERMUTUA\, Mutua Colaboradora con la  Seguridad Social nº 274\\n\\nVer en Contratero: https://contratero.es/contracts/CG-2020/2801/0005
URL:https://contratero.es/contracts/CG-2020/2801/0005
STATUS:CONFIRMED
BEGIN:VALARM
TRIGGER:-P1D
ACTION:DISPLAY
DESCRIPTION:Recordatorio: Actualización del software de 
END:VALARM
END:VEVENT
END:VCALENDAR