BEGIN:VCALENDAR
VERSION:2.0
PRODID:-//Contratero//ES
CALSCALE:GREGORIAN
METHOD:PUBLISH
BEGIN:VEVENT
UID:CG-2020/2821/0021@contratero.es
DTSTAMP:20260425T125057Z
DTSTART:20191213T235959
DTEND:20191214T005959
SUMMARY:Cierre: El objeto del contrato es la suscripción anual par
DESCRIPTION:El objeto del contrato es la suscripción anual para el mantenimiento de la consola remota y el software de las 300 unidades de dispositivos USB segurizados KANGURU\, para IBERMUTUA\, Mutua Colaboradora ...\\n\\nOrganismo: Dirección General de IBERMUTUA\, Mutua Colaboradora con la Seguridad Social nº 274\\n\\nVer en Contratero: https://contratero.es/contracts/CG-2020/2821/0021
URL:https://contratero.es/contracts/CG-2020/2821/0021
STATUS:CONFIRMED
BEGIN:VALARM
TRIGGER:-P1D
ACTION:DISPLAY
DESCRIPTION:Recordatorio: El objeto del contrato es la s
END:VALARM
END:VEVENT
END:VCALENDAR