BEGIN:VCALENDAR
VERSION:2.0
PRODID:-//Contratero//ES
CALSCALE:GREGORIAN
METHOD:PUBLISH
BEGIN:VEVENT
UID:CG-2020/2821/0258@contratero.es
DTSTAMP:20260425T141803Z
DTSTART:20201119T235959
DTEND:20201120T005959
SUMMARY:Cierre: Servicio de soporte y mantenimiento del gestor de 
DESCRIPTION:Servicio de soporte y mantenimiento del gestor de notificaciones electrónicas del fabricante IVNOSYS.\\n\\nOrganismo: Dirección General de IBERMUTUA\, Mutua Colaboradora con la Seguridad Social nº 274\\n\\nVer en Contratero: https://contratero.es/contracts/CG-2020/2821/0258
URL:https://contratero.es/contracts/CG-2020/2821/0258
STATUS:CONFIRMED
BEGIN:VALARM
TRIGGER:-P1D
ACTION:DISPLAY
DESCRIPTION:Recordatorio: Servicio de soporte y mantenim
END:VALARM
END:VEVENT
END:VCALENDAR