BEGIN:VCALENDAR
VERSION:2.0
PRODID:-//Contratero//ES
CALSCALE:GREGORIAN
METHOD:PUBLISH
BEGIN:VEVENT
UID:CG-2021/2821/0020@contratero.es
DTSTAMP:20260421T123114Z
DTSTART:20201224T235959
DTEND:20201225T005959
SUMMARY:Cierre: Servicio de mantenimiento del software Control-M d
DESCRIPTION:Servicio de mantenimiento del software Control-M del fabricante BMC\\n\\nOrganismo: Dirección General de IBERMUTUAMUR\, Mutua Colaboradora con la  Seguridad Social nº 274\\n\\nVer en Contratero: https://contratero.es/contracts/CG-2021/2821/0020
URL:https://contratero.es/contracts/CG-2021/2821/0020
STATUS:CONFIRMED
BEGIN:VALARM
TRIGGER:-P1D
ACTION:DISPLAY
DESCRIPTION:Recordatorio: Servicio de mantenimiento del 
END:VALARM
END:VEVENT
END:VCALENDAR