BEGIN:VCALENDAR
VERSION:2.0
PRODID:-//Contratero//ES
CALSCALE:GREGORIAN
METHOD:PUBLISH
BEGIN:VEVENT
UID:CG-2022/2821/0046@contratero.es
DTSTAMP:20260421T092305Z
DTSTART:20211125T235959
DTEND:20211126T005959
SUMMARY:Cierre: Servicio de mantenimiento y soporte de los product
DESCRIPTION:Servicio de mantenimiento y soporte de los productos del fabricante Symantec de IBERMUTUA\, Mutua Colaboradora con la Seguridad Social nº 274\\n\\nOrganismo: Dirección General de IBERMUTUA\, Mutua Colaboradora con la Seguridad Social nº 274\\n\\nVer en Contratero: https://contratero.es/contracts/CG-2022/2821/0046
URL:https://contratero.es/contracts/CG-2022/2821/0046
STATUS:CONFIRMED
BEGIN:VALARM
TRIGGER:-P1D
ACTION:DISPLAY
DESCRIPTION:Recordatorio: Servicio de mantenimiento y so
END:VALARM
END:VEVENT
END:VCALENDAR