BEGIN:VCALENDAR
VERSION:2.0
PRODID:-//Contratero//ES
CALSCALE:GREGORIAN
METHOD:PUBLISH
BEGIN:VEVENT
UID:CG-2022/2821/0120@contratero.es
DTSTAMP:20260424T001518Z
DTSTART:20220512T235959
DTEND:20220513T005959
SUMMARY:Cierre: Contratación de la suscripción del software PL/SQL
DESCRIPTION:Contratación de la suscripción del software PL/SQL Developer para IBERMUTUA\, Mutua Colaboradora con la Seguridad Social nº 274\\n\\nOrganismo: Dirección General de IBERMUTUA\, Mutua Colaboradora con la Seguridad Social nº 274\\n\\nVer en Contratero: https://contratero.es/contracts/CG-2022/2821/0120
URL:https://contratero.es/contracts/CG-2022/2821/0120
STATUS:CONFIRMED
BEGIN:VALARM
TRIGGER:-P1D
ACTION:DISPLAY
DESCRIPTION:Recordatorio: Contratación de la suscripción
END:VALARM
END:VEVENT
END:VCALENDAR