BEGIN:VCALENDAR
VERSION:2.0
PRODID:-//Contratero//ES
CALSCALE:GREGORIAN
METHOD:PUBLISH
BEGIN:VEVENT
UID:CG-2023/2821/0027@contratero.es
DTSTAMP:20260423T075830Z
DTSTART:20230131T235959
DTEND:20230201T005959
SUMMARY:Cierre: El objeto de contrato es el servicio de soporte y 
DESCRIPTION:El objeto de contrato es el servicio de soporte y mantenimiento del software Qmatic Orchestra\, de IBERMUTUA\, Mutua Colaboradora con la Seguridad Social nº 274.\\n\\nOrganismo: Dirección General de IBERMUTUA\, Mutua Colaboradora con la Seguridad Social nº 274\\n\\nVer en Contratero: https://contratero.es/contracts/CG-2023/2821/0027
URL:https://contratero.es/contracts/CG-2023/2821/0027
STATUS:CONFIRMED
BEGIN:VALARM
TRIGGER:-P1D
ACTION:DISPLAY
DESCRIPTION:Recordatorio: El objeto de contrato es el se
END:VALARM
END:VEVENT
END:VCALENDAR