BEGIN:VCALENDAR
VERSION:2.0
PRODID:-//Contratero//ES
CALSCALE:GREGORIAN
METHOD:PUBLISH
BEGIN:VEVENT
UID:CG-2024/5101/0356@contratero.es
DTSTAMP:20260423T054152Z
DTSTART:20241125T235959
DTEND:20241126T005959
SUMMARY:Cierre: Suministro de renovación y mantenimiento de licenc
DESCRIPTION:Suministro de renovación y mantenimiento de licencias del software Microstrategy\, en Mutua de Andalucía y de Ceuta\, Mutua Colaboradora con la Seguridad Socila nº 115.\\n\\nOrganismo: Dirección Gerencia de la Mutua de Andalucía y Ceuta\\n\\nVer en Contratero: https://contratero.es/contracts/CG-2024/5101/0356
URL:https://contratero.es/contracts/CG-2024/5101/0356
STATUS:CONFIRMED
BEGIN:VALARM
TRIGGER:-P1D
ACTION:DISPLAY
DESCRIPTION:Recordatorio: Suministro de renovación y man
END:VALARM
END:VEVENT
END:VCALENDAR