BEGIN:VCALENDAR
VERSION:2.0
PRODID:-//Contratero//ES
CALSCALE:GREGORIAN
METHOD:PUBLISH
BEGIN:VEVENT
UID:CG-2025/2821/0018@contratero.es
DTSTAMP:20260423T041805Z
DTSTART:20241211T235959
DTEND:20241212T005959
SUMMARY:Cierre: El objeto de contrato es la suscripción de servici
DESCRIPTION:El objeto de contrato es la suscripción de servicios online para IBERMUTUA\, Mutua Colaboradora con la Seguridad Social nº 274.\\n\\nOrganismo: Dirección General de IBERMUTUA\, Mutua Colaboradora con la Seguridad Social nº 274\\n\\nVer en Contratero: https://contratero.es/contracts/CG-2025/2821/0018
URL:https://contratero.es/contracts/CG-2025/2821/0018
STATUS:CONFIRMED
BEGIN:VALARM
TRIGGER:-P1D
ACTION:DISPLAY
DESCRIPTION:Recordatorio: El objeto de contrato es la su
END:VALARM
END:VEVENT
END:VCALENDAR