BEGIN:VCALENDAR
VERSION:2.0
PRODID:-//Contratero//ES
CALSCALE:GREGORIAN
METHOD:PUBLISH
BEGIN:VEVENT
UID:CG-2025/2821/0027@contratero.es
DTSTAMP:20260420T151428Z
DTSTART:20250219T235959
DTEND:20250220T005959
SUMMARY:Cierre: El objeto de contrato es mantenimiento anual de la
DESCRIPTION:El objeto de contrato es mantenimiento anual de las licencias Delphi Enterprise\, de IBERMUTUA\, Mutua Colaboradora con la Seguridad Social nº 274.\\n\\nOrganismo: Dirección General de IBERMUTUA\, Mutua Colaboradora con la Seguridad Social nº 274\\n\\nVer en Contratero: https://contratero.es/contracts/CG-2025/2821/0027
URL:https://contratero.es/contracts/CG-2025/2821/0027
STATUS:CONFIRMED
BEGIN:VALARM
TRIGGER:-P1D
ACTION:DISPLAY
DESCRIPTION:Recordatorio: El objeto de contrato es mante
END:VALARM
END:VEVENT
END:VCALENDAR