BEGIN:VCALENDAR
VERSION:2.0
PRODID:-//Contratero//ES
CALSCALE:GREGORIAN
METHOD:PUBLISH
BEGIN:VEVENT
UID:CG-2025/2821/0031@contratero.es
DTSTAMP:20260420T095805Z
DTSTART:20250313T235959
DTEND:20250314T005959
SUMMARY:Cierre: El objeto de contrato es el servicio de Migración 
DESCRIPTION:El objeto de contrato es el servicio de Migración Solpheo Suite a una nueva infraestructura de IBERMUTUA\, Mutua Colaboradora con la Seguridad Social nº 274.\\n\\nOrganismo: Dirección General de IBERMUTUA\, Mutua Colaboradora con la Seguridad Social nº 274\\n\\nVer en Contratero: https://contratero.es/contracts/CG-2025/2821/0031
URL:https://contratero.es/contracts/CG-2025/2821/0031
STATUS:CONFIRMED
BEGIN:VALARM
TRIGGER:-P1D
ACTION:DISPLAY
DESCRIPTION:Recordatorio: El objeto de contrato es el se
END:VALARM
END:VEVENT
END:VCALENDAR