BEGIN:VCALENDAR
VERSION:2.0
PRODID:-//Contratero//ES
CALSCALE:GREGORIAN
METHOD:PUBLISH
BEGIN:VEVENT
UID:CG-2026/2815/0002@contratero.es
DTSTAMP:20260424T222558Z
DTSTART:20251114T235959
DTEND:20251115T005959
SUMMARY:Cierre: Servicio de mantenimiento Premier del fabricante O
DESCRIPTION:Servicio de mantenimiento Premier del fabricante ORACLE\, para IBERMUTUA\, Mutua Colaboradora con la Seguridad Social nº 274.\\n\\nOrganismo: Dirección General de IBERMUTUA\, Mutua Colaboradora con la Seguridad Social nº 274\\n\\nVer en Contratero: https://contratero.es/contracts/CG-2026/2815/0002
URL:https://contratero.es/contracts/CG-2026/2815/0002
STATUS:CONFIRMED
BEGIN:VALARM
TRIGGER:-P1D
ACTION:DISPLAY
DESCRIPTION:Recordatorio: Servicio de mantenimiento Prem
END:VALARM
END:VEVENT
END:VCALENDAR