BEGIN:VCALENDAR
VERSION:2.0
PRODID:-//Contratero//ES
CALSCALE:GREGORIAN
METHOD:PUBLISH
BEGIN:VEVENT
UID:CG-2026/2821/0006@contratero.es
DTSTAMP:20260423T165856Z
DTSTART:20251117T235959
DTEND:20251118T005959
SUMMARY:Cierre: Suscripciones mensuales para un máximo de 2.500 us
DESCRIPTION:Suscripciones mensuales para un máximo de 2.500 usuarios de la herramienta ofimática MICROSOFT EXCHANGE ONLINE para IBERMUTUA\, Mutua Colaboradora con la Seguridad Social nº 274.\\n\\nOrganismo: Dirección General de IBERMUTUA\, Mutua Colaboradora con la Seguridad Social nº 274\\n\\nVer en Contratero: https://contratero.es/contracts/CG-2026/2821/0006
URL:https://contratero.es/contracts/CG-2026/2821/0006
STATUS:CONFIRMED
BEGIN:VALARM
TRIGGER:-P1D
ACTION:DISPLAY
DESCRIPTION:Recordatorio: Suscripciones mensuales para u
END:VALARM
END:VEVENT
END:VCALENDAR