BEGIN:VCALENDAR
VERSION:2.0
PRODID:-//Contratero//ES
CALSCALE:GREGORIAN
METHOD:PUBLISH
BEGIN:VEVENT
UID:CG-2026/3316/0003@contratero.es
DTSTAMP:20260419T145431Z
DTSTART:20260126T235959
DTEND:20260127T005959
SUMMARY:Cierre: El objeto de contrato es la suscripción para la ad
DESCRIPTION:El objeto de contrato es la suscripción para la adquisición de obras de legislación comentada en materia de seguridad social/derecho laboral y derecho laboral en formato digital para IBERMUTUA\, Mutua ...\\n\\nOrganismo: Dirección General de IBERMUTUA\, Mutua Colaboradora con la Seguridad Social nº 274\\n\\nVer en Contratero: https://contratero.es/contracts/CG-2026/3316/0003
URL:https://contratero.es/contracts/CG-2026/3316/0003
STATUS:CONFIRMED
BEGIN:VALARM
TRIGGER:-P1D
ACTION:DISPLAY
DESCRIPTION:Recordatorio: El objeto de contrato es la su
END:VALARM
END:VEVENT
END:VCALENDAR